BEGIN:VCALENDAR
VERSION:2.0
PRODID:-//Windham South East Supervisory Union - ECPv6.15.20//NONSGML v1.0//EN
CALSCALE:GREGORIAN
METHOD:PUBLISH
X-WR-CALNAME:Windham South East Supervisory Union
X-ORIGINAL-URL:https://wsesu.org
X-WR-CALDESC:Events for Windham South East Supervisory Union
REFRESH-INTERVAL;VALUE=DURATION:PT1H
X-Robots-Tag:noindex
X-PUBLISHED-TTL:PT1H
BEGIN:VTIMEZONE
TZID:America/New_York
BEGIN:DAYLIGHT
TZOFFSETFROM:-0500
TZOFFSETTO:-0400
TZNAME:EDT
DTSTART:20220313T070000
END:DAYLIGHT
BEGIN:STANDARD
TZOFFSETFROM:-0400
TZOFFSETTO:-0500
TZNAME:EST
DTSTART:20221106T060000
END:STANDARD
BEGIN:DAYLIGHT
TZOFFSETFROM:-0500
TZOFFSETTO:-0400
TZNAME:EDT
DTSTART:20230312T070000
END:DAYLIGHT
BEGIN:STANDARD
TZOFFSETFROM:-0400
TZOFFSETTO:-0500
TZNAME:EST
DTSTART:20231105T060000
END:STANDARD
BEGIN:DAYLIGHT
TZOFFSETFROM:-0500
TZOFFSETTO:-0400
TZNAME:EDT
DTSTART:20240310T070000
END:DAYLIGHT
BEGIN:STANDARD
TZOFFSETFROM:-0400
TZOFFSETTO:-0500
TZNAME:EST
DTSTART:20241103T060000
END:STANDARD
END:VTIMEZONE
BEGIN:VEVENT
DTSTART;VALUE=DATE:20230616
DTEND;VALUE=DATE:20230617
DTSTAMP:20260421T231609
CREATED:20230516T145731Z
LAST-MODIFIED:20230516T171337Z
UID:10000436-1686873600-1686959999@wsesu.org
SUMMARY:Last Day of School for Students
DESCRIPTION:June 16\, 2023 is the last day of school for students. Some students may finish earlier\, depending on graduation schedules and kindergarten registration. See your local school calendar for additional details.
URL:https://wsesu.org/event/last-day-of-school-for-students/
CATEGORIES:Academy School,Brattleboro Area Middle School,Brattleboro Union High School,Dummerston School,Green Street School,Guilford Central School,Oak Grove School,Putney Central School,Vernon Elementary School,Windham Regional Career Center,WSESU
END:VEVENT
END:VCALENDAR