BEGIN:VCALENDAR
VERSION:2.0
PRODID:-//Windham South East Supervisory Union - ECPv6.15.20//NONSGML v1.0//EN
CALSCALE:GREGORIAN
METHOD:PUBLISH
X-ORIGINAL-URL:https://wsesu.org
X-WR-CALDESC:Events for Windham South East Supervisory Union
REFRESH-INTERVAL;VALUE=DURATION:PT1H
X-Robots-Tag:noindex
X-PUBLISHED-TTL:PT1H
BEGIN:VTIMEZONE
TZID:America/New_York
BEGIN:DAYLIGHT
TZOFFSETFROM:-0500
TZOFFSETTO:-0400
TZNAME:EDT
DTSTART:20260308T070000
END:DAYLIGHT
BEGIN:STANDARD
TZOFFSETFROM:-0400
TZOFFSETTO:-0500
TZNAME:EST
DTSTART:20261101T060000
END:STANDARD
BEGIN:DAYLIGHT
TZOFFSETFROM:-0500
TZOFFSETTO:-0400
TZNAME:EDT
DTSTART:20270314T070000
END:DAYLIGHT
BEGIN:STANDARD
TZOFFSETFROM:-0400
TZOFFSETTO:-0500
TZNAME:EST
DTSTART:20271107T060000
END:STANDARD
BEGIN:DAYLIGHT
TZOFFSETFROM:-0500
TZOFFSETTO:-0400
TZNAME:EDT
DTSTART:20280312T070000
END:DAYLIGHT
BEGIN:STANDARD
TZOFFSETFROM:-0400
TZOFFSETTO:-0500
TZNAME:EST
DTSTART:20281105T060000
END:STANDARD
END:VTIMEZONE
BEGIN:VEVENT
DTSTART;TZID=America/New_York:20270209T180000
DTEND;TZID=America/New_York:20270209T210000
DTSTAMP:20260421T202403
CREATED:20230211T013344Z
LAST-MODIFIED:20230210T204436Z
UID:10000058-1802196000-1802206800@wsesu.org
SUMMARY:WSESD Board Meeting
DESCRIPTION:This is a regularly scheduled WSESD board meeting. Details can be found on the WSESD Board Agendas page
URL:https://wsesu.org/event/wsesd-board-meeting/2027-02-09/
CATEGORIES:Academy School,Brattleboro Area Middle School,Dummerston School,Green Street School,Guilford Central School,Oak Grove School,Putney Central School,Windham Regional Career Center,WSESU
END:VEVENT
BEGIN:VEVENT
DTSTART;TZID=America/New_York:20270210T180000
DTEND;TZID=America/New_York:20270210T210000
DTSTAMP:20260421T202403
CREATED:20230210T205655Z
LAST-MODIFIED:20230210T205655Z
UID:10000178-1802282400-1802293200@wsesu.org
SUMMARY:WSESU Board Meeting
DESCRIPTION:This is a regularly scheduled WSESU board meeting. Details can be found on the WSESU Board Agendas page
URL:https://wsesu.org/event/wsesu-board-meeting/2027-02-10/
CATEGORIES:Academy School,Brattleboro Area Middle School,Dummerston School,Green Street School,Guilford Central School,Oak Grove School,Putney Central School,Vernon Elementary School,Windham Regional Career Center,WSESU
END:VEVENT
BEGIN:VEVENT
DTSTART;TZID=America/New_York:20270223T180000
DTEND;TZID=America/New_York:20270223T210000
DTSTAMP:20260421T202403
CREATED:20230210T205432Z
LAST-MODIFIED:20230210T205432Z
UID:10000119-1803405600-1803416400@wsesu.org
SUMMARY:WSESD Board Meeting
DESCRIPTION:This is a regularly scheduled WSESD board meeting. Details can be found on the WSESD Board Agendas page
URL:https://wsesu.org/event/wsesd-board-meeting-2/2027-02-23/
CATEGORIES:Academy School,Brattleboro Area Middle School,Dummerston School,Green Street School,Guilford Central School,Oak Grove School,Putney Central School,Windham Regional Career Center,WSESU
END:VEVENT
END:VCALENDAR