BEGIN:VCALENDAR
VERSION:2.0
PRODID:-//Windham South East Supervisory Union - ECPv6.15.20//NONSGML v1.0//EN
CALSCALE:GREGORIAN
METHOD:PUBLISH
X-ORIGINAL-URL:https://wsesu.org
X-WR-CALDESC:Events for Windham South East Supervisory Union
REFRESH-INTERVAL;VALUE=DURATION:PT1H
X-Robots-Tag:noindex
X-PUBLISHED-TTL:PT1H
BEGIN:VTIMEZONE
TZID:America/New_York
BEGIN:DAYLIGHT
TZOFFSETFROM:-0500
TZOFFSETTO:-0400
TZNAME:EDT
DTSTART:20230312T070000
END:DAYLIGHT
BEGIN:STANDARD
TZOFFSETFROM:-0400
TZOFFSETTO:-0500
TZNAME:EST
DTSTART:20231105T060000
END:STANDARD
BEGIN:DAYLIGHT
TZOFFSETFROM:-0500
TZOFFSETTO:-0400
TZNAME:EDT
DTSTART:20240310T070000
END:DAYLIGHT
BEGIN:STANDARD
TZOFFSETFROM:-0400
TZOFFSETTO:-0500
TZNAME:EST
DTSTART:20241103T060000
END:STANDARD
BEGIN:DAYLIGHT
TZOFFSETFROM:-0500
TZOFFSETTO:-0400
TZNAME:EDT
DTSTART:20250309T070000
END:DAYLIGHT
BEGIN:STANDARD
TZOFFSETFROM:-0400
TZOFFSETTO:-0500
TZNAME:EST
DTSTART:20251102T060000
END:STANDARD
BEGIN:DAYLIGHT
TZOFFSETFROM:-0500
TZOFFSETTO:-0400
TZNAME:EDT
DTSTART:20260308T070000
END:DAYLIGHT
BEGIN:STANDARD
TZOFFSETFROM:-0400
TZOFFSETTO:-0500
TZNAME:EST
DTSTART:20261101T060000
END:STANDARD
END:VTIMEZONE
BEGIN:VEVENT
DTSTART;TZID=America/New_York:20250813T180000
DTEND;TZID=America/New_York:20250813T210000
DTSTAMP:20260421T083600
CREATED:20230210T205655Z
LAST-MODIFIED:20230210T205655Z
UID:10000160-1755108000-1755118800@wsesu.org
SUMMARY:WSESU Board Meeting
DESCRIPTION:This is a regularly scheduled WSESU board meeting. Details can be found on the WSESU Board Agendas page
URL:https://wsesu.org/event/wsesu-board-meeting/2025-08-13/
CATEGORIES:Academy School,Brattleboro Area Middle School,Dummerston School,Green Street School,Guilford Central School,Oak Grove School,Putney Central School,Vernon Elementary School,Windham Regional Career Center,WSESU
END:VEVENT
BEGIN:VEVENT
DTSTART;TZID=America/New_York:20250812T180000
DTEND;TZID=America/New_York:20250812T210000
DTSTAMP:20260421T083600
CREATED:20230211T013344Z
LAST-MODIFIED:20230210T204436Z
UID:10000040-1755021600-1755032400@wsesu.org
SUMMARY:WSESD Board Meeting
DESCRIPTION:This is a regularly scheduled WSESD board meeting. Details can be found on the WSESD Board Agendas page
URL:https://wsesu.org/event/wsesd-board-meeting/2025-08-12/
CATEGORIES:Academy School,Brattleboro Area Middle School,Dummerston School,Green Street School,Guilford Central School,Oak Grove School,Putney Central School,Windham Regional Career Center,WSESU
END:VEVENT
BEGIN:VEVENT
DTSTART;TZID=America/New_York:20250722T180000
DTEND;TZID=America/New_York:20250722T210000
DTSTAMP:20260421T083600
CREATED:20230210T205432Z
LAST-MODIFIED:20230210T205432Z
UID:10000100-1753207200-1753218000@wsesu.org
SUMMARY:WSESD Board Meeting
DESCRIPTION:This is a regularly scheduled WSESD board meeting. Details can be found on the WSESD Board Agendas page
URL:https://wsesu.org/event/wsesd-board-meeting-2/2025-07-22/
CATEGORIES:Academy School,Brattleboro Area Middle School,Dummerston School,Green Street School,Guilford Central School,Oak Grove School,Putney Central School,Windham Regional Career Center,WSESU
END:VEVENT
BEGIN:VEVENT
DTSTART;TZID=America/New_York:20250709T180000
DTEND;TZID=America/New_York:20250709T210000
DTSTAMP:20260421T083600
CREATED:20230210T205655Z
LAST-MODIFIED:20230210T205655Z
UID:10000159-1752084000-1752094800@wsesu.org
SUMMARY:WSESU Board Meeting
DESCRIPTION:This is a regularly scheduled WSESU board meeting. Details can be found on the WSESU Board Agendas page
URL:https://wsesu.org/event/wsesu-board-meeting/2025-07-09/
CATEGORIES:Academy School,Brattleboro Area Middle School,Dummerston School,Green Street School,Guilford Central School,Oak Grove School,Putney Central School,Vernon Elementary School,Windham Regional Career Center,WSESU
END:VEVENT
BEGIN:VEVENT
DTSTART;TZID=America/New_York:20250708T180000
DTEND;TZID=America/New_York:20250708T210000
DTSTAMP:20260421T083600
CREATED:20230211T013344Z
LAST-MODIFIED:20230210T204436Z
UID:10000039-1751997600-1752008400@wsesu.org
SUMMARY:WSESD Board Meeting
DESCRIPTION:This is a regularly scheduled WSESD board meeting. Details can be found on the WSESD Board Agendas page
URL:https://wsesu.org/event/wsesd-board-meeting/2025-07-08/
CATEGORIES:Academy School,Brattleboro Area Middle School,Dummerston School,Green Street School,Guilford Central School,Oak Grove School,Putney Central School,Windham Regional Career Center,WSESU
END:VEVENT
BEGIN:VEVENT
DTSTART;TZID=America/New_York:20250624T180000
DTEND;TZID=America/New_York:20250624T210000
DTSTAMP:20260421T083600
CREATED:20230210T205432Z
LAST-MODIFIED:20230210T205432Z
UID:10000099-1750788000-1750798800@wsesu.org
SUMMARY:WSESD Board Meeting
DESCRIPTION:This is a regularly scheduled WSESD board meeting. Details can be found on the WSESD Board Agendas page
URL:https://wsesu.org/event/wsesd-board-meeting-2/2025-06-24/
CATEGORIES:Academy School,Brattleboro Area Middle School,Dummerston School,Green Street School,Guilford Central School,Oak Grove School,Putney Central School,Windham Regional Career Center,WSESU
END:VEVENT
BEGIN:VEVENT
DTSTART;TZID=America/New_York:20250611T180000
DTEND;TZID=America/New_York:20250611T210000
DTSTAMP:20260421T083600
CREATED:20230210T205655Z
LAST-MODIFIED:20230210T205655Z
UID:10000158-1749664800-1749675600@wsesu.org
SUMMARY:WSESU Board Meeting
DESCRIPTION:This is a regularly scheduled WSESU board meeting. Details can be found on the WSESU Board Agendas page
URL:https://wsesu.org/event/wsesu-board-meeting/2025-06-11/
CATEGORIES:Academy School,Brattleboro Area Middle School,Dummerston School,Green Street School,Guilford Central School,Oak Grove School,Putney Central School,Vernon Elementary School,Windham Regional Career Center,WSESU
END:VEVENT
BEGIN:VEVENT
DTSTART;TZID=America/New_York:20250610T180000
DTEND;TZID=America/New_York:20250610T210000
DTSTAMP:20260421T083600
CREATED:20230211T013344Z
LAST-MODIFIED:20230210T204436Z
UID:10000038-1749578400-1749589200@wsesu.org
SUMMARY:WSESD Board Meeting
DESCRIPTION:This is a regularly scheduled WSESD board meeting. Details can be found on the WSESD Board Agendas page
URL:https://wsesu.org/event/wsesd-board-meeting/2025-06-10/
CATEGORIES:Academy School,Brattleboro Area Middle School,Dummerston School,Green Street School,Guilford Central School,Oak Grove School,Putney Central School,Windham Regional Career Center,WSESU
END:VEVENT
BEGIN:VEVENT
DTSTART;TZID=America/New_York:20250527T180000
DTEND;TZID=America/New_York:20250527T210000
DTSTAMP:20260421T083600
CREATED:20230210T205432Z
LAST-MODIFIED:20230210T205432Z
UID:10000098-1748368800-1748379600@wsesu.org
SUMMARY:WSESD Board Meeting
DESCRIPTION:This is a regularly scheduled WSESD board meeting. Details can be found on the WSESD Board Agendas page
URL:https://wsesu.org/event/wsesd-board-meeting-2/2025-05-27/
CATEGORIES:Academy School,Brattleboro Area Middle School,Dummerston School,Green Street School,Guilford Central School,Oak Grove School,Putney Central School,Windham Regional Career Center,WSESU
END:VEVENT
BEGIN:VEVENT
DTSTART;TZID=America/New_York:20250514T180000
DTEND;TZID=America/New_York:20250514T210000
DTSTAMP:20260421T083600
CREATED:20230210T205655Z
LAST-MODIFIED:20230210T205655Z
UID:10000157-1747245600-1747256400@wsesu.org
SUMMARY:WSESU Board Meeting
DESCRIPTION:This is a regularly scheduled WSESU board meeting. Details can be found on the WSESU Board Agendas page
URL:https://wsesu.org/event/wsesu-board-meeting/2025-05-14/
CATEGORIES:Academy School,Brattleboro Area Middle School,Dummerston School,Green Street School,Guilford Central School,Oak Grove School,Putney Central School,Vernon Elementary School,Windham Regional Career Center,WSESU
END:VEVENT
BEGIN:VEVENT
DTSTART;TZID=America/New_York:20250513T180000
DTEND;TZID=America/New_York:20250513T210000
DTSTAMP:20260421T083600
CREATED:20230211T013344Z
LAST-MODIFIED:20230210T204436Z
UID:10000037-1747159200-1747170000@wsesu.org
SUMMARY:WSESD Board Meeting
DESCRIPTION:This is a regularly scheduled WSESD board meeting. Details can be found on the WSESD Board Agendas page
URL:https://wsesu.org/event/wsesd-board-meeting/2025-05-13/
CATEGORIES:Academy School,Brattleboro Area Middle School,Dummerston School,Green Street School,Guilford Central School,Oak Grove School,Putney Central School,Windham Regional Career Center,WSESU
END:VEVENT
BEGIN:VEVENT
DTSTART;TZID=America/New_York:20250422T180000
DTEND;TZID=America/New_York:20250422T210000
DTSTAMP:20260421T083600
CREATED:20230210T205432Z
LAST-MODIFIED:20230210T205432Z
UID:10000097-1745344800-1745355600@wsesu.org
SUMMARY:WSESD Board Meeting
DESCRIPTION:This is a regularly scheduled WSESD board meeting. Details can be found on the WSESD Board Agendas page
URL:https://wsesu.org/event/wsesd-board-meeting-2/2025-04-22/
CATEGORIES:Academy School,Brattleboro Area Middle School,Dummerston School,Green Street School,Guilford Central School,Oak Grove School,Putney Central School,Windham Regional Career Center,WSESU
END:VEVENT
BEGIN:VEVENT
DTSTART;TZID=America/New_York:20250409T180000
DTEND;TZID=America/New_York:20250409T210000
DTSTAMP:20260421T083600
CREATED:20230210T205655Z
LAST-MODIFIED:20230210T205655Z
UID:10000156-1744221600-1744232400@wsesu.org
SUMMARY:WSESU Board Meeting
DESCRIPTION:This is a regularly scheduled WSESU board meeting. Details can be found on the WSESU Board Agendas page
URL:https://wsesu.org/event/wsesu-board-meeting/2025-04-09/
CATEGORIES:Academy School,Brattleboro Area Middle School,Dummerston School,Green Street School,Guilford Central School,Oak Grove School,Putney Central School,Vernon Elementary School,Windham Regional Career Center,WSESU
END:VEVENT
BEGIN:VEVENT
DTSTART;TZID=America/New_York:20250408T180000
DTEND;TZID=America/New_York:20250408T210000
DTSTAMP:20260421T083600
CREATED:20230211T013344Z
LAST-MODIFIED:20230210T204436Z
UID:10000036-1744135200-1744146000@wsesu.org
SUMMARY:WSESD Board Meeting
DESCRIPTION:This is a regularly scheduled WSESD board meeting. Details can be found on the WSESD Board Agendas page
URL:https://wsesu.org/event/wsesd-board-meeting/2025-04-08/
CATEGORIES:Academy School,Brattleboro Area Middle School,Dummerston School,Green Street School,Guilford Central School,Oak Grove School,Putney Central School,Windham Regional Career Center,WSESU
END:VEVENT
BEGIN:VEVENT
DTSTART;TZID=America/New_York:20250325T180000
DTEND;TZID=America/New_York:20250325T210000
DTSTAMP:20260421T083600
CREATED:20230210T205432Z
LAST-MODIFIED:20230210T205432Z
UID:10000096-1742925600-1742936400@wsesu.org
SUMMARY:WSESD Board Meeting
DESCRIPTION:This is a regularly scheduled WSESD board meeting. Details can be found on the WSESD Board Agendas page
URL:https://wsesu.org/event/wsesd-board-meeting-2/2025-03-25/
CATEGORIES:Academy School,Brattleboro Area Middle School,Dummerston School,Green Street School,Guilford Central School,Oak Grove School,Putney Central School,Windham Regional Career Center,WSESU
END:VEVENT
BEGIN:VEVENT
DTSTART;TZID=America/New_York:20250312T180000
DTEND;TZID=America/New_York:20250312T210000
DTSTAMP:20260421T083600
CREATED:20230210T205655Z
LAST-MODIFIED:20230210T205655Z
UID:10000155-1741802400-1741813200@wsesu.org
SUMMARY:WSESU Board Meeting
DESCRIPTION:This is a regularly scheduled WSESU board meeting. Details can be found on the WSESU Board Agendas page
URL:https://wsesu.org/event/wsesu-board-meeting/2025-03-12/
CATEGORIES:Academy School,Brattleboro Area Middle School,Dummerston School,Green Street School,Guilford Central School,Oak Grove School,Putney Central School,Vernon Elementary School,Windham Regional Career Center,WSESU
END:VEVENT
BEGIN:VEVENT
DTSTART;TZID=America/New_York:20250311T180000
DTEND;TZID=America/New_York:20250311T210000
DTSTAMP:20260421T083600
CREATED:20230211T013344Z
LAST-MODIFIED:20230210T204436Z
UID:10000035-1741716000-1741726800@wsesu.org
SUMMARY:WSESD Board Meeting
DESCRIPTION:This is a regularly scheduled WSESD board meeting. Details can be found on the WSESD Board Agendas page
URL:https://wsesu.org/event/wsesd-board-meeting/2025-03-11/
CATEGORIES:Academy School,Brattleboro Area Middle School,Dummerston School,Green Street School,Guilford Central School,Oak Grove School,Putney Central School,Windham Regional Career Center,WSESU
END:VEVENT
BEGIN:VEVENT
DTSTART;TZID=America/New_York:20250225T180000
DTEND;TZID=America/New_York:20250225T210000
DTSTAMP:20260421T083600
CREATED:20230210T205432Z
LAST-MODIFIED:20230210T205432Z
UID:10000095-1740506400-1740517200@wsesu.org
SUMMARY:WSESD Board Meeting
DESCRIPTION:This is a regularly scheduled WSESD board meeting. Details can be found on the WSESD Board Agendas page
URL:https://wsesu.org/event/wsesd-board-meeting-2/2025-02-25/
CATEGORIES:Academy School,Brattleboro Area Middle School,Dummerston School,Green Street School,Guilford Central School,Oak Grove School,Putney Central School,Windham Regional Career Center,WSESU
END:VEVENT
BEGIN:VEVENT
DTSTART;TZID=America/New_York:20250212T180000
DTEND;TZID=America/New_York:20250212T210000
DTSTAMP:20260421T083600
CREATED:20230210T205655Z
LAST-MODIFIED:20230210T205655Z
UID:10000154-1739383200-1739394000@wsesu.org
SUMMARY:WSESU Board Meeting
DESCRIPTION:This is a regularly scheduled WSESU board meeting. Details can be found on the WSESU Board Agendas page
URL:https://wsesu.org/event/wsesu-board-meeting/2025-02-12/
CATEGORIES:Academy School,Brattleboro Area Middle School,Dummerston School,Green Street School,Guilford Central School,Oak Grove School,Putney Central School,Vernon Elementary School,Windham Regional Career Center,WSESU
END:VEVENT
BEGIN:VEVENT
DTSTART;TZID=America/New_York:20250211T180000
DTEND;TZID=America/New_York:20250211T210000
DTSTAMP:20260421T083600
CREATED:20230211T013344Z
LAST-MODIFIED:20230210T204436Z
UID:10000034-1739296800-1739307600@wsesu.org
SUMMARY:WSESD Board Meeting
DESCRIPTION:This is a regularly scheduled WSESD board meeting. Details can be found on the WSESD Board Agendas page
URL:https://wsesu.org/event/wsesd-board-meeting/2025-02-11/
CATEGORIES:Academy School,Brattleboro Area Middle School,Dummerston School,Green Street School,Guilford Central School,Oak Grove School,Putney Central School,Windham Regional Career Center,WSESU
END:VEVENT
BEGIN:VEVENT
DTSTART;TZID=America/New_York:20250128T180000
DTEND;TZID=America/New_York:20250128T210000
DTSTAMP:20260421T083601
CREATED:20230210T205432Z
LAST-MODIFIED:20230210T205432Z
UID:10000094-1738087200-1738098000@wsesu.org
SUMMARY:WSESD Board Meeting
DESCRIPTION:This is a regularly scheduled WSESD board meeting. Details can be found on the WSESD Board Agendas page
URL:https://wsesu.org/event/wsesd-board-meeting-2/2025-01-28/
CATEGORIES:Academy School,Brattleboro Area Middle School,Dummerston School,Green Street School,Guilford Central School,Oak Grove School,Putney Central School,Windham Regional Career Center,WSESU
END:VEVENT
BEGIN:VEVENT
DTSTART;TZID=America/New_York:20250114T180000
DTEND;TZID=America/New_York:20250114T210000
DTSTAMP:20260421T083601
CREATED:20230211T013344Z
LAST-MODIFIED:20230210T204436Z
UID:10000033-1736877600-1736888400@wsesu.org
SUMMARY:WSESD Board Meeting
DESCRIPTION:This is a regularly scheduled WSESD board meeting. Details can be found on the WSESD Board Agendas page
URL:https://wsesu.org/event/wsesd-board-meeting/2025-01-14/
CATEGORIES:Academy School,Brattleboro Area Middle School,Dummerston School,Green Street School,Guilford Central School,Oak Grove School,Putney Central School,Windham Regional Career Center,WSESU
END:VEVENT
BEGIN:VEVENT
DTSTART;TZID=America/New_York:20250108T180000
DTEND;TZID=America/New_York:20250108T210000
DTSTAMP:20260421T083601
CREATED:20230210T205655Z
LAST-MODIFIED:20230210T205655Z
UID:10000153-1736359200-1736370000@wsesu.org
SUMMARY:WSESU Board Meeting
DESCRIPTION:This is a regularly scheduled WSESU board meeting. Details can be found on the WSESU Board Agendas page
URL:https://wsesu.org/event/wsesu-board-meeting/2025-01-08/
CATEGORIES:Academy School,Brattleboro Area Middle School,Dummerston School,Green Street School,Guilford Central School,Oak Grove School,Putney Central School,Vernon Elementary School,Windham Regional Career Center,WSESU
END:VEVENT
BEGIN:VEVENT
DTSTART;TZID=America/New_York:20241224T180000
DTEND;TZID=America/New_York:20241224T210000
DTSTAMP:20260421T083601
CREATED:20230210T205432Z
LAST-MODIFIED:20230210T205432Z
UID:10000093-1735063200-1735074000@wsesu.org
SUMMARY:WSESD Board Meeting
DESCRIPTION:This is a regularly scheduled WSESD board meeting. Details can be found on the WSESD Board Agendas page
URL:https://wsesu.org/event/wsesd-board-meeting-2/2024-12-24/
CATEGORIES:Academy School,Brattleboro Area Middle School,Dummerston School,Green Street School,Guilford Central School,Oak Grove School,Putney Central School,Windham Regional Career Center,WSESU
END:VEVENT
BEGIN:VEVENT
DTSTART;TZID=America/New_York:20241211T180000
DTEND;TZID=America/New_York:20241211T210000
DTSTAMP:20260421T083601
CREATED:20230210T205655Z
LAST-MODIFIED:20230210T205655Z
UID:10000152-1733940000-1733950800@wsesu.org
SUMMARY:WSESU Board Meeting
DESCRIPTION:This is a regularly scheduled WSESU board meeting. Details can be found on the WSESU Board Agendas page
URL:https://wsesu.org/event/wsesu-board-meeting/2024-12-11/
CATEGORIES:Academy School,Brattleboro Area Middle School,Dummerston School,Green Street School,Guilford Central School,Oak Grove School,Putney Central School,Vernon Elementary School,Windham Regional Career Center,WSESU
END:VEVENT
BEGIN:VEVENT
DTSTART;TZID=America/New_York:20241210T180000
DTEND;TZID=America/New_York:20241210T210000
DTSTAMP:20260421T083601
CREATED:20230211T013344Z
LAST-MODIFIED:20230210T204436Z
UID:10000032-1733853600-1733864400@wsesu.org
SUMMARY:WSESD Board Meeting
DESCRIPTION:This is a regularly scheduled WSESD board meeting. Details can be found on the WSESD Board Agendas page
URL:https://wsesu.org/event/wsesd-board-meeting/2024-12-10/
CATEGORIES:Academy School,Brattleboro Area Middle School,Dummerston School,Green Street School,Guilford Central School,Oak Grove School,Putney Central School,Windham Regional Career Center,WSESU
END:VEVENT
BEGIN:VEVENT
DTSTART;TZID=America/New_York:20241126T180000
DTEND;TZID=America/New_York:20241126T210000
DTSTAMP:20260421T083601
CREATED:20230210T205432Z
LAST-MODIFIED:20230210T205432Z
UID:10000092-1732644000-1732654800@wsesu.org
SUMMARY:WSESD Board Meeting
DESCRIPTION:This is a regularly scheduled WSESD board meeting. Details can be found on the WSESD Board Agendas page
URL:https://wsesu.org/event/wsesd-board-meeting-2/2024-11-26/
CATEGORIES:Academy School,Brattleboro Area Middle School,Dummerston School,Green Street School,Guilford Central School,Oak Grove School,Putney Central School,Windham Regional Career Center,WSESU
END:VEVENT
BEGIN:VEVENT
DTSTART;TZID=America/New_York:20241113T180000
DTEND;TZID=America/New_York:20241113T210000
DTSTAMP:20260421T083601
CREATED:20230210T205655Z
LAST-MODIFIED:20230210T205655Z
UID:10000151-1731520800-1731531600@wsesu.org
SUMMARY:WSESU Board Meeting
DESCRIPTION:This is a regularly scheduled WSESU board meeting. Details can be found on the WSESU Board Agendas page
URL:https://wsesu.org/event/wsesu-board-meeting/2024-11-13/
CATEGORIES:Academy School,Brattleboro Area Middle School,Dummerston School,Green Street School,Guilford Central School,Oak Grove School,Putney Central School,Vernon Elementary School,Windham Regional Career Center,WSESU
END:VEVENT
BEGIN:VEVENT
DTSTART;TZID=America/New_York:20241112T180000
DTEND;TZID=America/New_York:20241112T210000
DTSTAMP:20260421T083601
CREATED:20230211T013344Z
LAST-MODIFIED:20230210T204436Z
UID:10000031-1731434400-1731445200@wsesu.org
SUMMARY:WSESD Board Meeting
DESCRIPTION:This is a regularly scheduled WSESD board meeting. Details can be found on the WSESD Board Agendas page
URL:https://wsesu.org/event/wsesd-board-meeting/2024-11-12/
CATEGORIES:Academy School,Brattleboro Area Middle School,Dummerston School,Green Street School,Guilford Central School,Oak Grove School,Putney Central School,Windham Regional Career Center,WSESU
END:VEVENT
BEGIN:VEVENT
DTSTART;TZID=America/New_York:20241022T180000
DTEND;TZID=America/New_York:20241022T210000
DTSTAMP:20260421T083601
CREATED:20230210T205432Z
LAST-MODIFIED:20230210T205432Z
UID:10000091-1729620000-1729630800@wsesu.org
SUMMARY:WSESD Board Meeting
DESCRIPTION:This is a regularly scheduled WSESD board meeting. Details can be found on the WSESD Board Agendas page
URL:https://wsesu.org/event/wsesd-board-meeting-2/2024-10-22/
CATEGORIES:Academy School,Brattleboro Area Middle School,Dummerston School,Green Street School,Guilford Central School,Oak Grove School,Putney Central School,Windham Regional Career Center,WSESU
END:VEVENT
END:VCALENDAR