BEGIN:VCALENDAR
VERSION:2.0
PRODID:-//Windham South East Supervisory Union - ECPv6.15.20//NONSGML v1.0//EN
CALSCALE:GREGORIAN
METHOD:PUBLISH
X-ORIGINAL-URL:https://wsesu.org
X-WR-CALDESC:Events for Windham South East Supervisory Union
REFRESH-INTERVAL;VALUE=DURATION:PT1H
X-Robots-Tag:noindex
X-PUBLISHED-TTL:PT1H
BEGIN:VTIMEZONE
TZID:America/New_York
BEGIN:DAYLIGHT
TZOFFSETFROM:-0500
TZOFFSETTO:-0400
TZNAME:EDT
DTSTART:20260308T070000
END:DAYLIGHT
BEGIN:STANDARD
TZOFFSETFROM:-0400
TZOFFSETTO:-0500
TZNAME:EST
DTSTART:20261101T060000
END:STANDARD
BEGIN:DAYLIGHT
TZOFFSETFROM:-0500
TZOFFSETTO:-0400
TZNAME:EDT
DTSTART:20270314T070000
END:DAYLIGHT
BEGIN:STANDARD
TZOFFSETFROM:-0400
TZOFFSETTO:-0500
TZNAME:EST
DTSTART:20271107T060000
END:STANDARD
BEGIN:DAYLIGHT
TZOFFSETFROM:-0500
TZOFFSETTO:-0400
TZNAME:EDT
DTSTART:20280312T070000
END:DAYLIGHT
BEGIN:STANDARD
TZOFFSETFROM:-0400
TZOFFSETTO:-0500
TZNAME:EST
DTSTART:20281105T060000
END:STANDARD
BEGIN:DAYLIGHT
TZOFFSETFROM:-0500
TZOFFSETTO:-0400
TZNAME:EDT
DTSTART:20290311T070000
END:DAYLIGHT
BEGIN:STANDARD
TZOFFSETFROM:-0400
TZOFFSETTO:-0500
TZNAME:EST
DTSTART:20291104T060000
END:STANDARD
END:VTIMEZONE
BEGIN:VEVENT
DTSTART;TZID=America/New_York:20270908T180000
DTEND;TZID=America/New_York:20270908T210000
DTSTAMP:20260421T182935
CREATED:20230210T205655Z
LAST-MODIFIED:20230210T205655Z
UID:10000185-1820426400-1820437200@wsesu.org
SUMMARY:WSESU Board Meeting
DESCRIPTION:This is a regularly scheduled WSESU board meeting. Details can be found on the WSESU Board Agendas page
URL:https://wsesu.org/event/wsesu-board-meeting/2027-09-08/
CATEGORIES:Academy School,Brattleboro Area Middle School,Dummerston School,Green Street School,Guilford Central School,Oak Grove School,Putney Central School,Vernon Elementary School,Windham Regional Career Center,WSESU
END:VEVENT
BEGIN:VEVENT
DTSTART;TZID=America/New_York:20270914T180000
DTEND;TZID=America/New_York:20270914T210000
DTSTAMP:20260421T182935
CREATED:20230211T013344Z
LAST-MODIFIED:20230210T204436Z
UID:10000065-1820944800-1820955600@wsesu.org
SUMMARY:WSESD Board Meeting
DESCRIPTION:This is a regularly scheduled WSESD board meeting. Details can be found on the WSESD Board Agendas page
URL:https://wsesu.org/event/wsesd-board-meeting/2027-09-14/
CATEGORIES:Academy School,Brattleboro Area Middle School,Dummerston School,Green Street School,Guilford Central School,Oak Grove School,Putney Central School,Windham Regional Career Center,WSESU
END:VEVENT
BEGIN:VEVENT
DTSTART;TZID=America/New_York:20270928T180000
DTEND;TZID=America/New_York:20270928T210000
DTSTAMP:20260421T182935
CREATED:20230210T205432Z
LAST-MODIFIED:20230210T205432Z
UID:10000126-1822154400-1822165200@wsesu.org
SUMMARY:WSESD Board Meeting
DESCRIPTION:This is a regularly scheduled WSESD board meeting. Details can be found on the WSESD Board Agendas page
URL:https://wsesu.org/event/wsesd-board-meeting-2/2027-09-28/
CATEGORIES:Academy School,Brattleboro Area Middle School,Dummerston School,Green Street School,Guilford Central School,Oak Grove School,Putney Central School,Windham Regional Career Center,WSESU
END:VEVENT
BEGIN:VEVENT
DTSTART;TZID=America/New_York:20271012T180000
DTEND;TZID=America/New_York:20271012T210000
DTSTAMP:20260421T182935
CREATED:20230211T013344Z
LAST-MODIFIED:20230210T204436Z
UID:10000066-1823364000-1823374800@wsesu.org
SUMMARY:WSESD Board Meeting
DESCRIPTION:This is a regularly scheduled WSESD board meeting. Details can be found on the WSESD Board Agendas page
URL:https://wsesu.org/event/wsesd-board-meeting/2027-10-12/
CATEGORIES:Academy School,Brattleboro Area Middle School,Dummerston School,Green Street School,Guilford Central School,Oak Grove School,Putney Central School,Windham Regional Career Center,WSESU
END:VEVENT
BEGIN:VEVENT
DTSTART;TZID=America/New_York:20271013T180000
DTEND;TZID=America/New_York:20271013T210000
DTSTAMP:20260421T182935
CREATED:20230210T205655Z
LAST-MODIFIED:20230210T205655Z
UID:10000186-1823450400-1823461200@wsesu.org
SUMMARY:WSESU Board Meeting
DESCRIPTION:This is a regularly scheduled WSESU board meeting. Details can be found on the WSESU Board Agendas page
URL:https://wsesu.org/event/wsesu-board-meeting/2027-10-13/
CATEGORIES:Academy School,Brattleboro Area Middle School,Dummerston School,Green Street School,Guilford Central School,Oak Grove School,Putney Central School,Vernon Elementary School,Windham Regional Career Center,WSESU
END:VEVENT
BEGIN:VEVENT
DTSTART;TZID=America/New_York:20271026T180000
DTEND;TZID=America/New_York:20271026T210000
DTSTAMP:20260421T182935
CREATED:20230210T205432Z
LAST-MODIFIED:20230210T205432Z
UID:10000127-1824573600-1824584400@wsesu.org
SUMMARY:WSESD Board Meeting
DESCRIPTION:This is a regularly scheduled WSESD board meeting. Details can be found on the WSESD Board Agendas page
URL:https://wsesu.org/event/wsesd-board-meeting-2/2027-10-26/
CATEGORIES:Academy School,Brattleboro Area Middle School,Dummerston School,Green Street School,Guilford Central School,Oak Grove School,Putney Central School,Windham Regional Career Center,WSESU
END:VEVENT
BEGIN:VEVENT
DTSTART;TZID=America/New_York:20271109T180000
DTEND;TZID=America/New_York:20271109T210000
DTSTAMP:20260421T182935
CREATED:20230211T013344Z
LAST-MODIFIED:20230210T204436Z
UID:10000067-1825783200-1825794000@wsesu.org
SUMMARY:WSESD Board Meeting
DESCRIPTION:This is a regularly scheduled WSESD board meeting. Details can be found on the WSESD Board Agendas page
URL:https://wsesu.org/event/wsesd-board-meeting/2027-11-09/
CATEGORIES:Academy School,Brattleboro Area Middle School,Dummerston School,Green Street School,Guilford Central School,Oak Grove School,Putney Central School,Windham Regional Career Center,WSESU
END:VEVENT
BEGIN:VEVENT
DTSTART;TZID=America/New_York:20271110T180000
DTEND;TZID=America/New_York:20271110T210000
DTSTAMP:20260421T182935
CREATED:20230210T205655Z
LAST-MODIFIED:20230210T205655Z
UID:10000187-1825869600-1825880400@wsesu.org
SUMMARY:WSESU Board Meeting
DESCRIPTION:This is a regularly scheduled WSESU board meeting. Details can be found on the WSESU Board Agendas page
URL:https://wsesu.org/event/wsesu-board-meeting/2027-11-10/
CATEGORIES:Academy School,Brattleboro Area Middle School,Dummerston School,Green Street School,Guilford Central School,Oak Grove School,Putney Central School,Vernon Elementary School,Windham Regional Career Center,WSESU
END:VEVENT
BEGIN:VEVENT
DTSTART;TZID=America/New_York:20271123T180000
DTEND;TZID=America/New_York:20271123T210000
DTSTAMP:20260421T182935
CREATED:20230210T205432Z
LAST-MODIFIED:20230210T205432Z
UID:10000128-1826992800-1827003600@wsesu.org
SUMMARY:WSESD Board Meeting
DESCRIPTION:This is a regularly scheduled WSESD board meeting. Details can be found on the WSESD Board Agendas page
URL:https://wsesu.org/event/wsesd-board-meeting-2/2027-11-23/
CATEGORIES:Academy School,Brattleboro Area Middle School,Dummerston School,Green Street School,Guilford Central School,Oak Grove School,Putney Central School,Windham Regional Career Center,WSESU
END:VEVENT
BEGIN:VEVENT
DTSTART;TZID=America/New_York:20271208T180000
DTEND;TZID=America/New_York:20271208T210000
DTSTAMP:20260421T182935
CREATED:20230210T205655Z
LAST-MODIFIED:20230210T205655Z
UID:10000188-1828288800-1828299600@wsesu.org
SUMMARY:WSESU Board Meeting
DESCRIPTION:This is a regularly scheduled WSESU board meeting. Details can be found on the WSESU Board Agendas page
URL:https://wsesu.org/event/wsesu-board-meeting/2027-12-08/
CATEGORIES:Academy School,Brattleboro Area Middle School,Dummerston School,Green Street School,Guilford Central School,Oak Grove School,Putney Central School,Vernon Elementary School,Windham Regional Career Center,WSESU
END:VEVENT
BEGIN:VEVENT
DTSTART;TZID=America/New_York:20271214T180000
DTEND;TZID=America/New_York:20271214T210000
DTSTAMP:20260421T182935
CREATED:20230211T013344Z
LAST-MODIFIED:20230210T204436Z
UID:10000068-1828807200-1828818000@wsesu.org
SUMMARY:WSESD Board Meeting
DESCRIPTION:This is a regularly scheduled WSESD board meeting. Details can be found on the WSESD Board Agendas page
URL:https://wsesu.org/event/wsesd-board-meeting/2027-12-14/
CATEGORIES:Academy School,Brattleboro Area Middle School,Dummerston School,Green Street School,Guilford Central School,Oak Grove School,Putney Central School,Windham Regional Career Center,WSESU
END:VEVENT
BEGIN:VEVENT
DTSTART;TZID=America/New_York:20271228T180000
DTEND;TZID=America/New_York:20271228T210000
DTSTAMP:20260421T182935
CREATED:20230210T205432Z
LAST-MODIFIED:20230210T205432Z
UID:10000129-1830016800-1830027600@wsesu.org
SUMMARY:WSESD Board Meeting
DESCRIPTION:This is a regularly scheduled WSESD board meeting. Details can be found on the WSESD Board Agendas page
URL:https://wsesu.org/event/wsesd-board-meeting-2/2027-12-28/
CATEGORIES:Academy School,Brattleboro Area Middle School,Dummerston School,Green Street School,Guilford Central School,Oak Grove School,Putney Central School,Windham Regional Career Center,WSESU
END:VEVENT
BEGIN:VEVENT
DTSTART;TZID=America/New_York:20280111T180000
DTEND;TZID=America/New_York:20280111T210000
DTSTAMP:20260421T182935
CREATED:20230211T013344Z
LAST-MODIFIED:20230210T204436Z
UID:10000069-1831226400-1831237200@wsesu.org
SUMMARY:WSESD Board Meeting
DESCRIPTION:This is a regularly scheduled WSESD board meeting. Details can be found on the WSESD Board Agendas page
URL:https://wsesu.org/event/wsesd-board-meeting/2028-01-11/
CATEGORIES:Academy School,Brattleboro Area Middle School,Dummerston School,Green Street School,Guilford Central School,Oak Grove School,Putney Central School,Windham Regional Career Center,WSESU
END:VEVENT
BEGIN:VEVENT
DTSTART;TZID=America/New_York:20280112T180000
DTEND;TZID=America/New_York:20280112T210000
DTSTAMP:20260421T182935
CREATED:20230210T205655Z
LAST-MODIFIED:20230210T205655Z
UID:10000189-1831312800-1831323600@wsesu.org
SUMMARY:WSESU Board Meeting
DESCRIPTION:This is a regularly scheduled WSESU board meeting. Details can be found on the WSESU Board Agendas page
URL:https://wsesu.org/event/wsesu-board-meeting/2028-01-12/
CATEGORIES:Academy School,Brattleboro Area Middle School,Dummerston School,Green Street School,Guilford Central School,Oak Grove School,Putney Central School,Vernon Elementary School,Windham Regional Career Center,WSESU
END:VEVENT
BEGIN:VEVENT
DTSTART;TZID=America/New_York:20280125T180000
DTEND;TZID=America/New_York:20280125T210000
DTSTAMP:20260421T182935
CREATED:20230210T205432Z
LAST-MODIFIED:20230210T205432Z
UID:10000130-1832436000-1832446800@wsesu.org
SUMMARY:WSESD Board Meeting
DESCRIPTION:This is a regularly scheduled WSESD board meeting. Details can be found on the WSESD Board Agendas page
URL:https://wsesu.org/event/wsesd-board-meeting-2/2028-01-25/
CATEGORIES:Academy School,Brattleboro Area Middle School,Dummerston School,Green Street School,Guilford Central School,Oak Grove School,Putney Central School,Windham Regional Career Center,WSESU
END:VEVENT
BEGIN:VEVENT
DTSTART;TZID=America/New_York:20280208T180000
DTEND;TZID=America/New_York:20280208T210000
DTSTAMP:20260421T182935
CREATED:20230211T013344Z
LAST-MODIFIED:20230210T204436Z
UID:10000070-1833645600-1833656400@wsesu.org
SUMMARY:WSESD Board Meeting
DESCRIPTION:This is a regularly scheduled WSESD board meeting. Details can be found on the WSESD Board Agendas page
URL:https://wsesu.org/event/wsesd-board-meeting/2028-02-08/
CATEGORIES:Academy School,Brattleboro Area Middle School,Dummerston School,Green Street School,Guilford Central School,Oak Grove School,Putney Central School,Windham Regional Career Center,WSESU
END:VEVENT
BEGIN:VEVENT
DTSTART;TZID=America/New_York:20280209T180000
DTEND;TZID=America/New_York:20280209T210000
DTSTAMP:20260421T182935
CREATED:20230210T205655Z
LAST-MODIFIED:20230210T205655Z
UID:10000190-1833732000-1833742800@wsesu.org
SUMMARY:WSESU Board Meeting
DESCRIPTION:This is a regularly scheduled WSESU board meeting. Details can be found on the WSESU Board Agendas page
URL:https://wsesu.org/event/wsesu-board-meeting/2028-02-09/
CATEGORIES:Academy School,Brattleboro Area Middle School,Dummerston School,Green Street School,Guilford Central School,Oak Grove School,Putney Central School,Vernon Elementary School,Windham Regional Career Center,WSESU
END:VEVENT
BEGIN:VEVENT
DTSTART;TZID=America/New_York:20280222T180000
DTEND;TZID=America/New_York:20280222T210000
DTSTAMP:20260421T182935
CREATED:20230210T205432Z
LAST-MODIFIED:20230210T205432Z
UID:10000448-1834855200-1834866000@wsesu.org
SUMMARY:WSESD Board Meeting
DESCRIPTION:This is a regularly scheduled WSESD board meeting. Details can be found on the WSESD Board Agendas page
URL:https://wsesu.org/event/wsesd-board-meeting-2/2028-02-22/
CATEGORIES:Academy School,Brattleboro Area Middle School,Dummerston School,Green Street School,Guilford Central School,Oak Grove School,Putney Central School,Windham Regional Career Center,WSESU
END:VEVENT
BEGIN:VEVENT
DTSTART;TZID=America/New_York:20280328T180000
DTEND;TZID=America/New_York:20280328T210000
DTSTAMP:20260421T182935
CREATED:20230210T205432Z
LAST-MODIFIED:20230210T205432Z
UID:10000449-1837879200-1837890000@wsesu.org
SUMMARY:WSESD Board Meeting
DESCRIPTION:This is a regularly scheduled WSESD board meeting. Details can be found on the WSESD Board Agendas page
URL:https://wsesu.org/event/wsesd-board-meeting-2/2028-03-28/
CATEGORIES:Academy School,Brattleboro Area Middle School,Dummerston School,Green Street School,Guilford Central School,Oak Grove School,Putney Central School,Windham Regional Career Center,WSESU
END:VEVENT
BEGIN:VEVENT
DTSTART;TZID=America/New_York:20280425T180000
DTEND;TZID=America/New_York:20280425T210000
DTSTAMP:20260421T182935
CREATED:20230210T205432Z
LAST-MODIFIED:20230210T205432Z
UID:10000450-1840298400-1840309200@wsesu.org
SUMMARY:WSESD Board Meeting
DESCRIPTION:This is a regularly scheduled WSESD board meeting. Details can be found on the WSESD Board Agendas page
URL:https://wsesu.org/event/wsesd-board-meeting-2/2028-04-25/
CATEGORIES:Academy School,Brattleboro Area Middle School,Dummerston School,Green Street School,Guilford Central School,Oak Grove School,Putney Central School,Windham Regional Career Center,WSESU
END:VEVENT
BEGIN:VEVENT
DTSTART;TZID=America/New_York:20280523T180000
DTEND;TZID=America/New_York:20280523T210000
DTSTAMP:20260421T182935
CREATED:20230210T205432Z
LAST-MODIFIED:20230210T205432Z
UID:10000451-1842717600-1842728400@wsesu.org
SUMMARY:WSESD Board Meeting
DESCRIPTION:This is a regularly scheduled WSESD board meeting. Details can be found on the WSESD Board Agendas page
URL:https://wsesu.org/event/wsesd-board-meeting-2/2028-05-23/
CATEGORIES:Academy School,Brattleboro Area Middle School,Dummerston School,Green Street School,Guilford Central School,Oak Grove School,Putney Central School,Windham Regional Career Center,WSESU
END:VEVENT
BEGIN:VEVENT
DTSTART;TZID=America/New_York:20280627T180000
DTEND;TZID=America/New_York:20280627T210000
DTSTAMP:20260421T182935
CREATED:20230210T205432Z
LAST-MODIFIED:20230210T205432Z
UID:10000452-1845741600-1845752400@wsesu.org
SUMMARY:WSESD Board Meeting
DESCRIPTION:This is a regularly scheduled WSESD board meeting. Details can be found on the WSESD Board Agendas page
URL:https://wsesu.org/event/wsesd-board-meeting-2/2028-06-27/
CATEGORIES:Academy School,Brattleboro Area Middle School,Dummerston School,Green Street School,Guilford Central School,Oak Grove School,Putney Central School,Windham Regional Career Center,WSESU
END:VEVENT
BEGIN:VEVENT
DTSTART;TZID=America/New_York:20280725T180000
DTEND;TZID=America/New_York:20280725T210000
DTSTAMP:20260421T182935
CREATED:20230210T205432Z
LAST-MODIFIED:20230210T205432Z
UID:10000453-1848160800-1848171600@wsesu.org
SUMMARY:WSESD Board Meeting
DESCRIPTION:This is a regularly scheduled WSESD board meeting. Details can be found on the WSESD Board Agendas page
URL:https://wsesu.org/event/wsesd-board-meeting-2/2028-07-25/
CATEGORIES:Academy School,Brattleboro Area Middle School,Dummerston School,Green Street School,Guilford Central School,Oak Grove School,Putney Central School,Windham Regional Career Center,WSESU
END:VEVENT
BEGIN:VEVENT
DTSTART;TZID=America/New_York:20280822T180000
DTEND;TZID=America/New_York:20280822T210000
DTSTAMP:20260421T182935
CREATED:20230210T205432Z
LAST-MODIFIED:20230210T205432Z
UID:10000454-1850580000-1850590800@wsesu.org
SUMMARY:WSESD Board Meeting
DESCRIPTION:This is a regularly scheduled WSESD board meeting. Details can be found on the WSESD Board Agendas page
URL:https://wsesu.org/event/wsesd-board-meeting-2/2028-08-22/
CATEGORIES:Academy School,Brattleboro Area Middle School,Dummerston School,Green Street School,Guilford Central School,Oak Grove School,Putney Central School,Windham Regional Career Center,WSESU
END:VEVENT
BEGIN:VEVENT
DTSTART;TZID=America/New_York:20280926T180000
DTEND;TZID=America/New_York:20280926T210000
DTSTAMP:20260421T182935
CREATED:20230210T205432Z
LAST-MODIFIED:20230210T205432Z
UID:10000455-1853604000-1853614800@wsesu.org
SUMMARY:WSESD Board Meeting
DESCRIPTION:This is a regularly scheduled WSESD board meeting. Details can be found on the WSESD Board Agendas page
URL:https://wsesu.org/event/wsesd-board-meeting-2/2028-09-26/
CATEGORIES:Academy School,Brattleboro Area Middle School,Dummerston School,Green Street School,Guilford Central School,Oak Grove School,Putney Central School,Windham Regional Career Center,WSESU
END:VEVENT
BEGIN:VEVENT
DTSTART;TZID=America/New_York:20281024T180000
DTEND;TZID=America/New_York:20281024T210000
DTSTAMP:20260421T182935
CREATED:20230210T205432Z
LAST-MODIFIED:20230210T205432Z
UID:10000456-1856023200-1856034000@wsesu.org
SUMMARY:WSESD Board Meeting
DESCRIPTION:This is a regularly scheduled WSESD board meeting. Details can be found on the WSESD Board Agendas page
URL:https://wsesu.org/event/wsesd-board-meeting-2/2028-10-24/
CATEGORIES:Academy School,Brattleboro Area Middle School,Dummerston School,Green Street School,Guilford Central School,Oak Grove School,Putney Central School,Windham Regional Career Center,WSESU
END:VEVENT
BEGIN:VEVENT
DTSTART;TZID=America/New_York:20281128T180000
DTEND;TZID=America/New_York:20281128T210000
DTSTAMP:20260421T182935
CREATED:20230210T205432Z
LAST-MODIFIED:20230210T205432Z
UID:10000457-1859047200-1859058000@wsesu.org
SUMMARY:WSESD Board Meeting
DESCRIPTION:This is a regularly scheduled WSESD board meeting. Details can be found on the WSESD Board Agendas page
URL:https://wsesu.org/event/wsesd-board-meeting-2/2028-11-28/
CATEGORIES:Academy School,Brattleboro Area Middle School,Dummerston School,Green Street School,Guilford Central School,Oak Grove School,Putney Central School,Windham Regional Career Center,WSESU
END:VEVENT
END:VCALENDAR